BEGIN:VCALENDAR
VERSION:2.0
PRODID:-//Colegio Mayor de Antioquia - ECPv4.8.2//NONSGML v1.0//EN
CALSCALE:GREGORIAN
METHOD:PUBLISH
X-WR-CALNAME:Colegio Mayor de Antioquia
X-ORIGINAL-URL:https://www.colmayor.edu.co
X-WR-CALDESC:Eventos para Colegio Mayor de Antioquia
BEGIN:VEVENT
DTSTART;TZID=UTC-5:20251110T080000
DTEND;TZID=UTC-5:20251114T170000
DTSTAMP:20260419T182711
CREATED:20251020T143146Z
LAST-MODIFIED:20251020T143146Z
UID:79525-1762761600-1763139600@www.colmayor.edu.co
SUMMARY:XXVI Semana de la Facultad de Arquitectura e Ingeniería: conocimiento\, creatividad e innovación en un solo espacio
DESCRIPTION:
URL:https://www.colmayor.edu.co/evento/xxvi-semana-de-la-facultad-de-arquitectura-e-ingenieria-conocimiento-creatividad-e-innovacion-en-un-solo-espacio/
LOCATION:I. U. Colmayor de Antioquia
ATTACH;FMTTYPE=image/jpeg:https://www.colmayor.edu.co/wp-content/uploads/2019/01/featured-default-bw.jpg
END:VEVENT
END:VCALENDAR