BEGIN:VCALENDAR
VERSION:2.0
PRODID:-//Colegio Mayor de Antioquia - ECPv4.8.2//NONSGML v1.0//EN
CALSCALE:GREGORIAN
METHOD:PUBLISH
X-WR-CALNAME:Colegio Mayor de Antioquia
X-ORIGINAL-URL:https://www.colmayor.edu.co
X-WR-CALDESC:Eventos para Colegio Mayor de Antioquia
BEGIN:VEVENT
DTSTART;TZID=UTC-5:20251021T080000
DTEND;TZID=UTC-5:20251022T170000
DTSTAMP:20260419T121543
CREATED:20251020T143316Z
LAST-MODIFIED:20251020T143316Z
UID:79529-1761033600-1761152400@www.colmayor.edu.co
SUMMARY:VI Encuentro de la Construcción: Avances y retos del sector
DESCRIPTION:
URL:https://www.colmayor.edu.co/evento/vi-encuentro-de-la-construccion-avances-y-retos-del-sector/
LOCATION:I. U. Colmayor de Antioquia
ATTACH;FMTTYPE=image/jpeg:https://www.colmayor.edu.co/wp-content/uploads/2019/01/featured-default-bw.jpg
END:VEVENT
END:VCALENDAR