BEGIN:VCALENDAR
VERSION:2.0
PRODID:-//Colegio Mayor de Antioquia - ECPv4.8.2//NONSGML v1.0//EN
CALSCALE:GREGORIAN
METHOD:PUBLISH
X-WR-CALNAME:Colegio Mayor de Antioquia
X-ORIGINAL-URL:https://www.colmayor.edu.co
X-WR-CALDESC:Eventos para Colegio Mayor de Antioquia
BEGIN:VEVENT
DTSTART;TZID=UTC-5:20251022T080000
DTEND;TZID=UTC-5:20251024T170000
DTSTAMP:20260421T110945
CREATED:20251020T143408Z
LAST-MODIFIED:20251020T143408Z
UID:79531-1761120000-1761325200@www.colmayor.edu.co
SUMMARY:Monólogo: La Cossio Desnuda
DESCRIPTION: Funciones: \n22 de octubre – 1:00 p. m.\n23 de octubre – 5:00 p. m.\n24 de octubre – 10:00 a. m. \n
URL:https://www.colmayor.edu.co/evento/monologo-la-cossio-desnuda/
LOCATION:I. U. Colmayor de Antioquia
ATTACH;FMTTYPE=image/jpeg:https://www.colmayor.edu.co/wp-content/uploads/2019/01/featured-default-bw.jpg
END:VEVENT
END:VCALENDAR